Workbook

Sheet  CO-PO List
A2: CO | B2: Description | C2: Level
A3: CO1 | B3: Analyse simple bolting and welding connections and understand codes and how to apply it. | C3: Understand, Apply
A4: CO2 | B4: Apply simple steel structures such as tension members, compression members and simple beams. | C4: Apply
A5: CO3 | B5: Analyse timber structural elements | C5: Understand, Analyse
A6: CO4 | B6: Solve various problems related to staircase, footings by limit state method | C6: Apply
A7: CO5 | B7: Able to solve masonry and tubular structures problems. | C7: Apply
A9: PO | B9: Description | C9: Level
A10: PO1 | B10: Apply knowledge of basic mathematics, science and engineering fundamentals and engineering specialization to solve the engineering problems. | C10: Basic and Discipline specific knowledge:
A11: PO2 | B11: Identify and analyse well-defined engineering problems using codified standard methods. | C11: Problem analysis:
A12: PO3 | B12: Design solutions for well-defined technical problems and assist with the design of systems components or processes to meet specified needs. | C12: Design/ development of solutions:
A13: PO4 | B13: Apply modern engineering tools and appropriate technique to conduct standard tests and measurements. | C13: Engineering Tools, Experimentation and Testing
A14: PO5 | B14: Apply appropriate technology in context of society, sustainability, environment and ethical practices. | C14: Engineering practices for society, sustainability and environment
... A16: PO7 | B16: Ability to analyse individual needs and engage in updating in the context of technological changes. | C16: Life-long learning:
A18: PSO | B18: Description
A19: PSO1 | B19: The students of this program should be able to plan, analyse and prepare cost estimate for execution for different type of Civil Engineering Projects.
A20: PSO2 | B20: The students of this program should be able to work effectively as an individual or in a team to execute and supervise a civil construction project maintaining the quality, health, safety, environmental and societal requirements.

Sheet Student Performance
A1: Paper Code: | B1: TH1 COMM ENGLISH
A2: Teacher's Name: | B2: K.K.DANG
A3: Assesment Year: | B3: 2020-2021
A4: Stream: | B4: CE
A5: Semester: | B5: 2nd | C5: Average
A6: Total No. of Students: | C6: =AVERAGE(C8:C28) -> 39 | D6: =AVERAGE(D8:D28) -> 16.47619 | E6: =AVERAGE(E8:E28) -> 0.82380952 | F6: =AVERAGE(F8:F28) -> 22.52381 | G6: =AVERAGE(G8:G28) -> 0.28180952
A7: ROLL | B7: NAME | C7: Marks in 100 * (U) | D7: Internal (20) (I) | E7: % of marks of internal | F7: Board Mark (80) (U - I) | G7: % Board marks
A8: F20110001002 | B8: AMIYA RANAJAN MAHAKUR | C8: 35 | D8: 16 | E8: =ROUND(D8/20,3) -> 0.8 | F8: =C8-D8 -> 19 | G8: =ROUND(F8/80,3) -> 0.238
A9: F20110001003 | B9: ANANYA MEHER | C9: 31 | D9: 16 | E9: =ROUND(D9/20,3) -> 0.8 | F9: =C9-D9 -> 15 | G9: =ROUND(F9/80,3) -> 0.188
A10: F20110001004 | B10: ANKIT MAJHI | C10: 38 | D10: 16 | E10: =ROUND(D10/20,3) -> 0.8 | F10: =C10-D10 -> 22 | G10: =ROUND(F10/80,3) -> 0.275
A11: F20110001005 | B11: BIBEK KUMAR PODH | C11: 56 | D11: 15 | E11: =ROUND(D11/20,3) -> 0.75 | F11: =C11-D11 -> 41 | G11: =ROUND(F11/80,3) -> 0.513
A12: F20110001007 | B12: DIPANJALI BARGE | C12: 37 | D12: 17 | E12: =ROUND(D12/20,3) -> 0.85 | F12: =C12-D12 -> 20 | G12: =ROUND(F12/80,3) -> 0.25
A13: F20110001008 | B13: GANESH KETAKI | C13: 50 | D13: 16 | E13: =ROUND(D13/20,3) -> 0.8 | F13: =C13-D13 -> 34 | G13: =ROUND(F13/80,3) -> 0.425
A14: F20110001009 | B14: HARIHARA CHHURA | C14: 38 | D14: 17 | E14: =ROUND(D14/20,3) -> 0.85 | F14: =C14-D14 -> 21 | G14: =ROUND(F14/80,3) -> 0.263
A15: F20110001010 | B15: HEMANTA DHARUA | C15: 50 | D15: 17 | E15: =ROUND(D15/20,3) -> 0.85 | F15: =C15-D15 -> 33 | G15: =ROUND(F15/80,3) -> 0.413
A16: F20110001011 | B16: JAYASHANKAR DASH | C16: 30 | D16: 16 | E16: =ROUND(D16/20,3) -> 0.8 | F16: =C16-D16 -> 14 | G16: =ROUND(F16/80,3) -> 0.175
A17: F20110001012 | B17: KAPILAS MANHIRA | C17: 35 | D17: 17 | E17: =ROUND(D17/20,3) -> 0.85 | F17: =C17-D17 -> 18 | G17: =ROUND(F17/80,3) -> 0.225
A18: F20110001013 | B18: MISHIKA TRIPATHY | C18: 28 | D18: 16 | E18: =ROUND(D18/20,3) -> 0.8 | F18: =C18-D18 -> 12 | G18: =ROUND(F18/80,3) -> 0.15
A19: F20110001014 | B19: PHAKIR MOHAN MAJHI | C19: 36 | D19: 17 | E19: =ROUND(D19/20,3) -> 0.85 | F19: =C19-D19 -> 19 | G19: =ROUND(F19/80,3) -> 0.238
... A34: F20110001031 | B34: TRUPTI MAYA NAG | C34: 37 | D34: 17 | E34: =ROUND(D34/20,3) -> 0.85 | F34: =C34-D34 -> 20 | G34: =ROUND(F34/80,3) -> 0.25

Sheet CO Specific mark distribution
F2: CO Specific Distribution of Internal Marks
A4: ROLL | B4: NAME | C4: Marks in 100 (U) | D4: Internal (20) (I) | E4: Board Mark (80) (U - I) | F4: CO1 | G4: CO2 | H4: CO3 | I4: CO4 | J4: CO5
F5: 6 | G5: 8 | H5: 6 | I5: 00 | J5: 00
A6: F20110001002 | B6: AMIYA RANAJAN MAHAKUR | C6: 35 | D6: 16 | E6: ='Student Performance'!F8 -> 19 | F6: 6 | G6: 7 | H6: 6
A7: F20110001003 | B7: ANANYA MEHER | C7: 31 | D7: 16 | E7: ='Student Performance'!F9 -> 15 | F7: 5 | G7: 5 | H7: 5
A8: F20110001004 | B8: ANKIT MAJHI | C8: 38 | D8: 16 | E8: ='Student Performance'!F10 -> 22 | F8: 5 | G8: 5 | H8: 6
A9: F20110001005 | B9: BIBEK KUMAR PODH | C9: 56 | D9: 15 | E9: ='Student Performance'!F11 -> 41 | F9: 5 | G9: 5 | H9: 5
A10: F20110001007 | B10: DIPANJALI BARGE | C10: 37 | D10: 17 | E10: ='Student Performance'!F12 -> 20 | F10: 5 | G10: 7 | H10: 5
A11: F20110001008 | B11: GANESH KETAKI | C11: 50 | D11: 16 | E11: ='Student Performance'!F13 -> 34 | F11: 5 | G11: 5 | H11: 6
A12: F20110001009 | B12: HARIHARA CHHURA | C12: 38 | D12: 17 | E12: ='Student Performance'!F14 -> 21 | F12: 6 | G12: 6 | H12: 5
A13: F20110001010 | B13: HEMANTA DHARUA | C13: 50 | D13: 17 | E13: ='Student Performance'!F15 -> 33 | F13: 5 | G13: 7 | H13: 5
A14: F20110001011 | B14: JAYASHANKAR DASH | C14: 30 | D14: 16 | E14: ='Student Performance'!F16 -> 14 | F14: 5 | G14: 5 | H14: 6
A15: F20110001012 | B15: KAPILAS MANHIRA | C15: 35 | D15: 17 | E15: ='Student Performance'!F17 -> 18 | F15: 6 | G15: 6 | H15: 5
A16: F20110001013 | B16: MISHIKA TRIPATHY | C16: 28 | D16: 16 | E16: ='Student Performance'!F18 -> 12 | F16: 6 | G16: 5 | H16: 5
A17: F20110001014 | B17: PHAKIR MOHAN MAJHI | C17: 36 | D17: 17 | E17: ='Student Performance'!F19 -> 19 | F17: 6 | G17: 6 | H17: 5
... A32: F20110001031 | B32: TRUPTI MAYA NAG | C32: 37 | D32: 17 | E32: ='Student Performance'!F34 -> 20 | F32: 6 | G32: 6 | H32: 5

Sheet Direct Attainment
B1: Total number of student | F1: 21
B3: CO-Attainment | G3: Internal | L3: Board Exam CO-Attainment
G4: CO1 | H4: CO2 | I4: CO3 | J4: CO4 | K4: CO5
B5: Total Marks in respective CO | G5: ='CO Specific mark distribution'!F5 -> 6 | H5: ='CO Specific mark distribution'!G5 -> 8 | I5: ='CO Specific mark distribution'!H5 -> 6 | L5: 80 | P5: Attainment Level 1: 60% students scoring more than 60% marks in the internal/university examination.
B6: Set Attainment Target percentage | F6: 0.4 | G6: =IF(G5<>"",$F$6*G5,"") -> 2.4 | H6: =IF(H5<>"",$F$6*H5,"") -> 3.2 | I6: =IF(I5<>"",$F$6*I5,"") -> 2.4 | J6: =IF(J5<>"",$F$6*J5,"") | K6: =IF(K5<>"",$F$6*K5,"") | L6: =IF(L5<>"",$F$6*L5,"") -> 32
B7: No of students gets marks>= Target | G7: =COUNTIF('CO Specific mark distribution'!F6:F26,">="&G6) -> 21 | H7: =COUNTIF('CO Specific mark distribution'!G6:G26,">="&H6) -> 21 | I7: ='CO Specific mark distribution'!H7 -> 5 | L7: =COUNTIF('CO Specific mark distribution'!E6:E26,">="&L6) -> 7 | P7: Attainment Level 2: 70% students scoring more than 60% marks in the internal/university examination.
B8: % of students gets marks>= Target | G8: =G7/$F$1 -> 1 | H8: =H7/$F$1 -> 1 | I8: ='CO Specific mark distribution'!H8 -> 6 | L8: =L7/$F$1 -> 0.33333333
B9: CO attainment levels | G9: =IF(G5<>"",IF(G8>79%,3,IF(G8>69%,2,IF(G8>59%,1,0))),"") -> 3 | H9: =IF(H5<>"",IF(H8>79%,3,IF(H8>69%,2,IF(H8>59%,1,0))),"") -> 3 | I9: =IF(I5<>"",IF(I8>79%,3,IF(I8>69%,2,IF(I8>59%,1,0))),"") -> 3 | J9: =IF(J5<>"",IF(J8>79%,3,IF(J8>69%,2,IF(J8>59%,1,0))),"") | K9: =IF(K5<>"",IF(K8>79%,3,IF(K8>69%,2,IF(K8>59%,1,0))),"") | L9: =IF(L5<>"",IF(L8>79%,3,IF(L8>69%,2,IF(L8>59%,1,0))),"") -> 0 | P9: Attainment Level 3: 80% students scoring more than 60% marks in the internal/university examination.
B11: Weighted CO Attainment (40% Internal+ 60% board) | G11: =IF(G5<>"",G9*0.4+$L$9*0.6,$L$9*0.6) -> 1.2 | H11: =IF(H5<>"",H9*0.4+$L$9*0.6,$L$9*0.6) -> 1.2 | I11: =IF(I5<>"",I9*0.4+$L$9*0.6,$L$9*0.6) -> 1.2 | J11: =IF(J5<>"",J9*0.4+$L$9*0.6,$L$9*0.6) -> 0 | K11: =IF(K5<>"",K9*0.4+$L$9*0.6,$L$9*0.6) -> 0

Sheet Direct PO&PSO Attainment
B2: Paper Code: | C2: TH1A COMM.ENGLISH
B3: Teacher's Name: | C3: K.K.DANG
B4: Assesment Year: | C4: 2020-2021
B5: Stream: | C5: CE
B6: Semester: | C6: 2ND
A8: CORRELATIONSHIP MATRIX
A9: CO | B9: Description | C9: PO LIST | J9: PSO
C10: PO1 | D10: PO2 | E10: PO3 | F10: PO4 | G10: PO5 | H10: PO6 | I10: PO7 | J10: PSO1 | K10: PSO2
C11: Basic and Discipline specific knowledge | D11: Problem analysis | E11: Design/ development of solutions | F11: Engineering Tools, Experimentation and Testing | G11: Engineering practices for society, sustainability and environment | H11: Project Management | I11: Life-long learning | J11: Knowledge | K11: Professionalism
A12: CO1 | B12: Building skills to comprehend a given passage. | C12: 2 | E12: 1 | F12: 1 | J12: 1 | K12: 1
A13: CO2 | B13: Apply rules of grammar for flawless writing | C13: 2 | F13: 2 | J13: 2 | K13: 1
A14: CO3 | B14: Building vocabulary for a good communication. | C14: 2 | F14: 2 | K14: 2
A15: CO4 | B15: Displaying communication skills in a well organised set up. | C15: 2 | D15: 2 | H15: 1 | I15: 2
A16: CO5 | B16: Analyse grammatical errors like articles,part of speech,tense,modal etc | C16: 3 | H16: 1 | I16: 2 | K16: 1
A20: DIRECT PO & PSO ATTAINMENT
A21: CO ID | B21: ATTAINMENT LVL | C21: PO1 | D21: PO2 | E21: PO3 | F21: PO4 | G21: PO5 | H21: PO6 | I21: PO7 | J21: PSO1 | K21: PSO2
A22: Th2 CO1 | B22: ='Direct Attainment'!G11 -> 1.2 | C22: =IF(C12="","",$B22*C12/3) -> 0.8 | D22: =IF(D12="","",$B22*D12/3) | E22: =IF(E12="","",$B22*E12/3) -> 0.4 | F22: =IF(F12="","",$B22*F12/3) -> 0.4 | G22: =IF(G12="","",$B22*G12/3) | H22: =IF(H12="","",$B22*H12/3) | I22: =IF(I12="","",$B22*I12/3) | J22: =IF(J12="","",$B22*J12/3) -> 0.4 | K22: =IF(K12="","",$B22*K12/3) -> 0.4
A23: Th2 CO2 | B23: ='Direct Attainment'!H11 -> 1.2 | C23: =IF(C13="","",$B23*C13/3) -> 0.8 | D23: =IF(D13="","",$B23*D13/3) | E23: =IF(E13="","",$B23*E13/3) | F23: =IF(F13="","",$B23*F13/3) -> 0.8 | G23: =IF(G13="","",$B23*G13/3) | H23: =IF(H13="","",$B23*H13/3) | I23: =IF(I13="","",$B23*I13/3) | J23: =IF(J13="","",$B23*J13/3) -> 0.8 | K23: =IF(K13="","",$B23*K13/3) -> 0.4
A24: Th2 CO3 | B24: ='Direct Attainment'!I11 -> 1.2 | C24: =IF(C14="","",$B24*C14/3) -> 0.8 | D24: =IF(D14="","",$B24*D14/3) | E24: =IF(E14="","",$B24*E14/3) | F24: =IF(F14="","",$B24*F14/3) -> 0.8 | G24: =IF(G14="","",$B24*G14/3) | H24: =IF(H14="","",$B24*H14/3) | I24: =IF(I14="","",$B24*I14/3) | J24: =IF(J14="","",$B24*J14/3) | K24: =IF(K14="","",$B24*K14/3) -> 0.8
A25: Th2 CO4 | B25: ='Direct Attainment'!J11 -> 0 | C25: =IF(C15="","",$B25*C15/3) -> 0 | D25: =IF(D15="","",$B25*D15/3) -> 0 | E25: =IF(E15="","",$B25*E15/3) | F25: =IF(F15="","",$B25*F15/3) | G25: =IF(G15="","",$B25*G15/3) | H25: =IF(H15="","",$B25*H15/3) -> 0 | I25: =IF(I15="","",$B25*I15/3) -> 0 | J25: =IF(J15="","",$B25*J15/3) | K25: =IF(K15="","",$B25*K15/3)
A26: Th2 CO5 | B26: ='Direct Attainment'!K11 -> 0 | C26: =IF(C16="","",$B26*C16/3) -> 0 | D26: =IF(D16="","",$B26*D16/3) | E26: =IF(E16="","",$B26*E16/3) | F26: =IF(F16="","",$B26*F16/3) | G26: =IF(G16="","",$B26*G16/3) | H26: =IF(H16="","",$B26*H16/3) -> 0 | I26: =IF(I16="","",$B26*I16/3) -> 0 | J26: =IF(J16="","",$B26*J16/3) | K26: =IF(K16="","",$B26*K16/3) -> 0
